BEGIN:VCALENDAR
VERSION:2.0
PRODID:-//Tukios.com/
BEGIN:VEVENT
UID:5b14c454-708a-4313-a70d-9c9aa12d2e75@www.hendersonvillefh.com
DTSTAMP:20260425T222014Z
DTSTART:20260429T210000Z
DTEND:20260430T000000Z
SUMMARY:Visitation
DESCRIPTION:
URL:https://www.hendersonvillefh.com/obituaries/brice-bennett
LOCATION: 353 E Main St  Hendersonville TN 37075
GEO:36.311678;-86.591838
END:VEVENT
END:VCALENDAR