BEGIN:VCALENDAR
VERSION:2.0
PRODID:-//Tukios.com/
BEGIN:VEVENT
UID:2c0b3f52-8a17-4c11-a6c5-d8ecbdce22f3@www.hendersonvillefh.com
DTSTAMP:20260425T221558Z
DTSTART:20260430T000000Z
DTEND:20260430T010000Z
SUMMARY:Celebration of Life
DESCRIPTION:
URL:https://www.hendersonvillefh.com/obituaries/brice-bennett
LOCATION: 353 E Main St  Hendersonville TN 37075
GEO:36.311678;-86.591838
END:VEVENT
END:VCALENDAR