BEGIN:VCALENDAR
VERSION:2.0
PRODID:-//Tukios.com/
BEGIN:VEVENT
UID:c1f52a20-bad1-40da-a4d2-395aec63ad1b@www.hendersonvillefh.com
DTSTAMP:20260421T185217Z
DTSTART:20260425T143000Z
DTEND:20260425T163000Z
SUMMARY:Visitation
DESCRIPTION:
URL:https://www.hendersonvillefh.com/obituaries/michael-rigby
LOCATION: 353 E Main St  Hendersonville TN 37075
GEO:36.311678;-86.591838
END:VEVENT
END:VCALENDAR