BEGIN:VCALENDAR
VERSION:2.0
PRODID:-//Tukios.com/
BEGIN:VEVENT
UID:c475fc35-6c8f-405b-bd8b-ee42ad3fb27d@www.hendersonvillefh.com
DTSTAMP:20260421T184233Z
DTSTART:20260425T163000Z
DTEND:20260425T173000Z
SUMMARY:Memorial Service
DESCRIPTION:
URL:https://www.hendersonvillefh.com/obituaries/michael-rigby
LOCATION: 353 E Main St  Hendersonville TN 37075
GEO:36.311678;-86.591838
END:VEVENT
END:VCALENDAR